BEGIN:VCALENDAR
VERSION:2.0
X-WR-CALNAME: Matchbox Twenty Too
PRODID:GIGPRESS 2.0 WORDPRESS PLUGIN
CALSCALE:GREGORIAN
X-WR-TIMEZONE:Etc/GMT
METHOD:PUBLISH
BEGIN:VTIMEZONE
TZID:GMT
BEGIN:STANDARD
DTSTART:20071028T010000
TZOFFSETTO:+0000
TZOFFSETFROM:+0000
END:STANDARD
END:VTIMEZONE
BEGIN:VEVENT
SUMMARY:Matchbox Twenty Too at Los Alamos 4th July Spectacular
DESCRIPTION:Price: Free. All Ages
LOCATION:Los Alamos 4th July Spectacular\, Ashley Pond Park\, 2300 Trinity Drive\, Los Alamos\, US
UID:20260704T190000Z-191-eschink@yahoo.com
URL:https://www.matchboxtwentytoo.com
DTSTART;VALUE=DATE-TIME;TZID=GMT:20260704T190000Z
DTEND;VALUE=DATE-TIME;TZID=GMT:20260704T190000Z
DTSTAMP:20260420T033258Z
END:VEVENT
BEGIN:VEVENT
SUMMARY:Matchbox Twenty Too at Balboa Park - Twilight in the Park
DESCRIPTION:All Ages
LOCATION:Balboa Park - Twilight in the Park\, 2125 Pan American E Rd\, San Diego\, US
UID:20260806T183000Z-192-eschink@yahoo.com
URL:https://www.matchboxtwentytoo.com
DTSTART;VALUE=DATE-TIME;TZID=GMT:20260806T183000Z
DTEND;VALUE=DATE-TIME;TZID=GMT:20260806T183000Z
DTSTAMP:20260420T033258Z
END:VEVENT
BEGIN:VEVENT
SUMMARY:Matchbox Twenty Too at Tracyton Movie House
DESCRIPTION:Notes: Doors 8pm\, Show 9pm\, $30 Reserved Seating\, $25 General Admission All Ages
LOCATION:Tracyton Movie House\, 1520 NE Riddell Rd\, Bremerton\, US
UID:20260912T210000Z-194-eschink@yahoo.com
URL:https://www.matchboxtwentytoo.com
DTSTART;VALUE=DATE-TIME;TZID=GMT:20260912T210000Z
DTEND;VALUE=DATE-TIME;TZID=GMT:20260912T210000Z
DTSTAMP:20260420T033258Z
END:VEVENT
BEGIN:VEVENT
SUMMARY:Matchbox Twenty Too at Washington State Fair
DESCRIPTION:Notes: Time TBD All Ages
LOCATION:Washington State Fair\, 110 9th Avenue SW\, Puyallup\, US
UID:20260913T183000Z-193-eschink@yahoo.com
URL:https://www.matchboxtwentytoo.com
DTSTART;VALUE=DATE-TIME;TZID=GMT:20260913T183000Z
DTEND;VALUE=DATE-TIME;TZID=GMT:20260913T183000Z
DTSTAMP:20260420T033258Z
END:VEVENT
BEGIN:VEVENT
SUMMARY:Matchbox Twenty Too at The Rabbit Hole
DESCRIPTION:No Minors
LOCATION:The Rabbit Hole\, 3377 Adams Ave\, San Diego\, US
UID:20261003T210000Z-195-eschink@yahoo.com
URL:https://www.matchboxtwentytoo.com
DTSTART;VALUE=DATE-TIME;TZID=GMT:20261003T210000Z
DTEND;VALUE=DATE-TIME;TZID=GMT:20261003T210000Z
DTSTAMP:20260420T033258Z
END:VEVENT
BEGIN:VEVENT
SUMMARY:Matchbox Twenty Too at Bakersfield Music Hall of Fame
DESCRIPTION:All Ages
LOCATION:Bakersfield Music Hall of Fame\, 2231 R Street\, 2230 Q St\, Bakersfield\, US
UID:20261107T190000Z-190-eschink@yahoo.com
URL:https://www.matchboxtwentytoo.com
DTSTART;VALUE=DATE-TIME;TZID=GMT:20261107T190000Z
DTEND;VALUE=DATE-TIME;TZID=GMT:20261107T190000Z
DTSTAMP:20260420T033258Z
END:VEVENT
BEGIN:VEVENT
SUMMARY:Matchbox Twenty Too at Deano's Pub
DESCRIPTION:No Minors
LOCATION:Deano's Pub\, 5286 Baltimore Dr\, La Mesa\, US
UID:20261120T200000Z-196-eschink@yahoo.com
URL:https://www.matchboxtwentytoo.com
DTSTART;VALUE=DATE-TIME;TZID=GMT:20261120T200000Z
DTEND;VALUE=DATE-TIME;TZID=GMT:20261120T200000Z
DTSTAMP:20260420T033258Z
END:VEVENT
END:VCALENDAR